BEGIN:VCALENDAR
VERSION:2.0
PRODID:-// - ECPv5.14.2.1//NONSGML v1.0//EN
CALSCALE:GREGORIAN
METHOD:PUBLISH
X-ORIGINAL-URL:https://stmichaeleotc.org
X-WR-CALDESC:Events for 
REFRESH-INTERVAL;VALUE=DURATION:PT1H
X-Robots-Tag:noindex
X-PUBLISHED-TTL:PT1H
BEGIN:VTIMEZONE
TZID:America/Chicago
BEGIN:DAYLIGHT
TZOFFSETFROM:-0600
TZOFFSETTO:-0500
TZNAME:CDT
DTSTART:20240310T080000
END:DAYLIGHT
BEGIN:STANDARD
TZOFFSETFROM:-0500
TZOFFSETTO:-0600
TZNAME:CST
DTSTART:20241103T070000
END:STANDARD
END:VTIMEZONE
BEGIN:VEVENT
DTSTART;TZID=America/Chicago:20240106T180000
DTEND;TZID=America/Chicago:20240106T233000
DTSTAMP:20260424T021334
CREATED:20240108T180004Z
LAST-MODIFIED:20240108T180213Z
UID:3248-1704564000-1704583800@stmichaeleotc.org
SUMMARY:Christmas Celebration (የልደት በዓለ ልዩ ዝግጅት)
DESCRIPTION:Christmas Celebration \n6:00pm የመግቢያ ጸሎት ፣ \n8:00am-11:00pm ማህሌት ፣ መዝሙር ፣ \n12:00am-3:00am ጸሎተ ቅዳሴ ፣
URL:https://stmichaeleotc.org/event/christmas-celebration-%e1%8b%a8%e1%88%8d%e1%8b%b0%e1%89%b5-%e1%89%a0%e1%8b%93%e1%88%88-%e1%88%8d%e1%8b%a9-%e1%8b%9d%e1%8c%8d%e1%8c%85%e1%89%b5/
LOCATION:Debre Meheret St Michael EOTC\, 1106 N. Jupiter Rd\, Garland\, TX\, 75042
CATEGORIES:Church Events
ATTACH;FMTTYPE=image/jpeg:https://stmichaeleotc.org/wp-content/uploads/2023/01/lidet2.jpg
ORGANIZER;CN="%E1%88%B5%E1%89%A5%E1%8A%A8%E1%89%B5%20%E1%8A%AD%E1%8D%8D%E1%88%8D":MAILTO:info@stmichaeleotc.org
END:VEVENT
BEGIN:VEVENT
DTSTART;TZID=America/Chicago:20240107T000000
DTEND;TZID=America/Chicago:20240107T030000
DTSTAMP:20260424T021334
CREATED:20240108T180140Z
LAST-MODIFIED:20240108T180140Z
UID:3250-1704585600-1704596400@stmichaeleotc.org
SUMMARY:Divine Liturgy and Christmas Celebration (የልደት በዓለ ልዩ ዝግጅት)
DESCRIPTION:Christmas Celebration \n6:00pm የመግቢያ ጸሎት ፣ \n8:00am-11:00pm ማህሌት ፣ መዝሙር ፣ \n12:00am-3:00am ጸሎተ ቅዳሴ ፣
URL:https://stmichaeleotc.org/event/divine-liturgy-and-christmas-celebration-%e1%8b%a8%e1%88%8d%e1%8b%b0%e1%89%b5-%e1%89%a0%e1%8b%93%e1%88%88-%e1%88%8d%e1%8b%a9-%e1%8b%9d%e1%8c%8d%e1%8c%85%e1%89%b5-3/
LOCATION:Debre Meheret St Michael EOTC\, 1106 N. Jupiter Rd\, Garland\, TX\, 75042
CATEGORIES:Church Events
ATTACH;FMTTYPE=image/jpeg:https://stmichaeleotc.org/wp-content/uploads/2023/01/lidet2.jpg
ORGANIZER;CN="%E1%88%B5%E1%89%A5%E1%8A%A8%E1%89%B5%20%E1%8A%AD%E1%8D%8D%E1%88%8D":MAILTO:info@stmichaeleotc.org
END:VEVENT
BEGIN:VEVENT
DTSTART;TZID=America/Chicago:20240119T170000
DTEND;TZID=America/Chicago:20240119T193000
DTSTAMP:20260424T021334
CREATED:20240205T060534Z
LAST-MODIFIED:20240205T060534Z
UID:3245-1705683600-1705692600@stmichaeleotc.org
SUMMARY:Vigil Service / Ketera (ከተራ)
DESCRIPTION:Come join us as we kick off the Celebration of our Lord and Savior’s Baptism with a Vigil Service / Ketera
URL:https://stmichaeleotc.org/event/vigil-service-ketera-%e1%8a%a8%e1%89%b0%e1%88%ab-2/
LOCATION:Debre Meheret St Michael EOTC\, 1106 N. Jupiter Rd\, Garland\, TX\, 75042
CATEGORIES:Church Events
ATTACH;FMTTYPE=image/jpeg:https://stmichaeleotc.org/wp-content/uploads/2023/01/timket1.jpg
ORGANIZER;CN="%E1%88%B5%E1%89%A5%E1%8A%A8%E1%89%B5%20%E1%8A%AD%E1%8D%8D%E1%88%8D":MAILTO:info@stmichaeleotc.org
END:VEVENT
BEGIN:VEVENT
DTSTART;TZID=America/Chicago:20240120T000000
DTEND;TZID=America/Chicago:20240120T110000
DTSTAMP:20260424T021334
CREATED:20240205T060653Z
LAST-MODIFIED:20240205T060653Z
UID:3246-1705708800-1705748400@stmichaeleotc.org
SUMMARY:Celebration of Baptism (በዓለ ጥምቀት)
DESCRIPTION:We will be celebrating the Baptism of our Lord and Savior with the following services: \n\nChant of Mahlet (ሥርዓተ ማኅሌት) (11:00pm-5:00am)\nDivine Liturgy (ጸሎተ ቅዳሴ) (5:00am-9:00am)\nCelebration of Baptism (በዓለ ጥምቀት) (9:00am-11:00am)\n\n 
URL:https://stmichaeleotc.org/event/celebration-of-baptism-%e1%89%a0%e1%8b%93%e1%88%88-%e1%8c%a5%e1%88%9d%e1%89%80%e1%89%b5-2/
LOCATION:Debre Meheret St Michael EOTC\, 1106 N. Jupiter Rd\, Garland\, TX\, 75042
CATEGORIES:Church Events
ATTACH;FMTTYPE=image/jpeg:https://stmichaeleotc.org/wp-content/uploads/2023/01/timket1.jpg
ORGANIZER;CN="%E1%88%B5%E1%89%A5%E1%8A%A8%E1%89%B5%20%E1%8A%AD%E1%8D%8D%E1%88%8D":MAILTO:info@stmichaeleotc.org
END:VEVENT
BEGIN:VEVENT
DTSTART;TZID=America/Chicago:20240121T043000
DTEND;TZID=America/Chicago:20240121T200000
DTSTAMP:20260424T021334
CREATED:20240108T180719Z
LAST-MODIFIED:20240205T060618Z
UID:3247-1705811400-1705867200@stmichaeleotc.org
SUMMARY:Celebration of Baptism-Conclusion & Feast of St. Michael The Archangel
DESCRIPTION:We will be celebrating the conclusion of the Celebration of our Lord and Savior’s Baptism on St Michael’s day with the following services: \n\nMorning Prayers (4:30am-6:30am)\nመዝሙር ዘሰንበት ፣ ኪዳን ፣ ቅዳሴ ፣ መዝሙር ፣ ትምህርተ ወንጌል ፣ ሠርሆተ ሕዝብ። (6:00am-11:00am)\nBible study\, Mezmur and Candlelight program (6:30pm-8:00pm)\n\n 
URL:https://stmichaeleotc.org/event/celebration-of-baptism-conclusion-feast-of-st-michael-the-archangel/
LOCATION:Debre Meheret St Michael EOTC\, 1106 N. Jupiter Rd\, Garland\, TX\, 75042
CATEGORIES:Church Events
ATTACH;FMTTYPE=image/jpeg:https://stmichaeleotc.org/wp-content/uploads/2022/10/StMichael.jpg
ORGANIZER;CN="%E1%88%B5%E1%89%A5%E1%8A%A8%E1%89%B5%20%E1%8A%AD%E1%8D%8D%E1%88%8D":MAILTO:info@stmichaeleotc.org
END:VEVENT
BEGIN:VEVENT
DTSTART;TZID=America/Chicago:20240130T043000
DTEND;TZID=America/Chicago:20240130T200000
DTSTAMP:20260424T021334
CREATED:20230817T204446Z
LAST-MODIFIED:20231228T234327Z
UID:3167-1706589000-1706644800@stmichaeleotc.org
SUMMARY:Divine Liturgy and Monthly Feast of St. Mary
DESCRIPTION:We will be celebrating St Mary’s day with the following services: \n\nMorning Prayers (4:30am-6:00am)\nDivine Liturgy (6:00am-11:00am)\nBible study\, Mezmur and Candlelight program (6:30pm-8:00pm)\n\n 
URL:https://stmichaeleotc.org/event/divine-liturgy-and-monthly-feast-of-st-mary-2/
LOCATION:Debre Meheret St Michael EOTC\, 1106 N. Jupiter Rd\, Garland\, TX\, 75042
CATEGORIES:Church Events
ATTACH;FMTTYPE=image/jpeg:https://stmichaeleotc.org/wp-content/uploads/2022/07/Emebete-2.jpg
ORGANIZER;CN="%E1%88%B5%E1%89%A5%E1%8A%A8%E1%89%B5%20%E1%8A%AD%E1%8D%8D%E1%88%8D":MAILTO:info@stmichaeleotc.org
END:VEVENT
END:VCALENDAR