BEGIN:VCALENDAR
VERSION:2.0
PRODID:-// - ECPv5.14.2.1//NONSGML v1.0//EN
CALSCALE:GREGORIAN
METHOD:PUBLISH
X-ORIGINAL-URL:https://stmichaeleotc.org
X-WR-CALDESC:Events for 
REFRESH-INTERVAL;VALUE=DURATION:PT1H
X-Robots-Tag:noindex
X-PUBLISHED-TTL:PT1H
BEGIN:VTIMEZONE
TZID:America/Chicago
BEGIN:DAYLIGHT
TZOFFSETFROM:-0600
TZOFFSETTO:-0500
TZNAME:CDT
DTSTART:20230312T080000
END:DAYLIGHT
BEGIN:STANDARD
TZOFFSETFROM:-0500
TZOFFSETTO:-0600
TZNAME:CST
DTSTART:20231105T070000
END:STANDARD
END:VTIMEZONE
BEGIN:VEVENT
DTSTART;TZID=America/Chicago:20231201T043000
DTEND;TZID=America/Chicago:20231201T200000
DTSTAMP:20260424T004839
CREATED:20231201T161133Z
LAST-MODIFIED:20231201T161144Z
UID:3212-1701405000-1701460800@stmichaeleotc.org
SUMMARY:Divine Liturgy and Annual Feast of St. Mary of Zion
DESCRIPTION:We will be celebrating St Mary’s day with the following services: \n\nMorning Prayers (4:30am-6:30am)\nDivine Liturgy (12:00pm-3:00pm)\nBible study\, Mezmur and Candlelight program (6:30pm-8:00pm)\n\n 
URL:https://stmichaeleotc.org/event/divine-liturgy-and-annual-feast-of-st-mary-of-zion/
LOCATION:Debre Meheret St Michael EOTC\, 1106 N. Jupiter Rd\, Garland\, TX\, 75042
CATEGORIES:Church Events
ATTACH;FMTTYPE=image/jpeg:https://stmichaeleotc.org/wp-content/uploads/2023/12/Axum-Tsion.jpg
ORGANIZER;CN="%E1%88%B5%E1%89%A5%E1%8A%A8%E1%89%B5%20%E1%8A%AD%E1%8D%8D%E1%88%8D":MAILTO:info@stmichaeleotc.org
END:VEVENT
BEGIN:VEVENT
DTSTART;TZID=America/Chicago:20231229T043000
DTEND;TZID=America/Chicago:20231229T200000
DTSTAMP:20260424T004839
CREATED:20231228T233509Z
LAST-MODIFIED:20231228T235342Z
UID:3223-1703824200-1703880000@stmichaeleotc.org
SUMMARY:Divine Liturgy and Annual Feast of St. Gabriel the Archangel\, including a Special Gubae
DESCRIPTION:Please come join us for the start of our Annual Feast of St. Gabriel the Archangel – \nWe will be celebrating with the following services: \n\nMorning Prayers (4:30am-6:30am)\nDivine Liturgy (12:00pm-3:00pm)\nSpecial Gubae featuring Mezmurs (Hymns) by Bekure Yibabe Gebre Yohannes Gebre Tsadik and the Cathedral’s Mezemiran\nSermon by Megabi Mistir Kesis Solomon Tesfaye\nClosing prayers by Archbishop Sawiros\n\n 
URL:https://stmichaeleotc.org/event/special-gubae-3/
LOCATION:Debre Meheret St Michael EOTC\, 1106 N. Jupiter Rd\, Garland\, TX\, 75042
CATEGORIES:Church Events
ATTACH;FMTTYPE=image/jpeg:https://stmichaeleotc.org/wp-content/uploads/2023/12/IMG_3318-1.jpg
ORGANIZER;CN="%E1%88%B5%E1%89%A5%E1%8A%A8%E1%89%B5%20%E1%8A%AD%E1%8D%8D%E1%88%8D":MAILTO:info@stmichaeleotc.org
END:VEVENT
BEGIN:VEVENT
DTSTART;TZID=America/Chicago:20231231T010000
DTEND;TZID=America/Chicago:20231231T113000
DTSTAMP:20260424T004839
CREATED:20231228T234556Z
LAST-MODIFIED:20231228T234556Z
UID:3236-1703984400-1704022200@stmichaeleotc.org
SUMMARY:Divine Liturgy and Tabot Celebration (የታኅሣሥ ገብርኤል በዓለ ንግሥ)
DESCRIPTION:Celebration of the Annual Feast of St Gabriel the Archangel \n1:00am ሥርዓተ ማኅሌት ፣ \n5:30am-6:00am ጸሎተ ኪዳን ፣ \n6:00am-9:30am ጸሎተ ቅዳሴ ፣ \n9:30am-11:00am መዝሙር ፣ ትምህርተ ወንጌል ፣ \n11:00am  የታቦት ንግሥ ።
URL:https://stmichaeleotc.org/event/divine-liturgy-and-tabot-celebration-%e1%8b%a8%e1%89%b3%e1%8a%85%e1%88%a3%e1%88%a5-%e1%8c%88%e1%89%a5%e1%88%ad%e1%8a%a4%e1%88%8d-%e1%89%a0%e1%8b%93%e1%88%88-%e1%8a%95%e1%8c%8d%e1%88%a5-2/
LOCATION:Debre Meheret St Michael EOTC\, 1106 N. Jupiter Rd\, Garland\, TX\, 75042
CATEGORIES:Church Events
ATTACH;FMTTYPE=image/jpeg:https://stmichaeleotc.org/wp-content/uploads/2022/10/StGabriel.jpg
ORGANIZER;CN="%E1%88%B5%E1%89%A5%E1%8A%A8%E1%89%B5%20%E1%8A%AD%E1%8D%8D%E1%88%8D":MAILTO:info@stmichaeleotc.org
END:VEVENT
END:VCALENDAR