BEGIN:VCALENDAR
VERSION:2.0
PRODID:-// - ECPv5.14.2.1//NONSGML v1.0//EN
CALSCALE:GREGORIAN
METHOD:PUBLISH
X-ORIGINAL-URL:https://stmichaeleotc.org
X-WR-CALDESC:Events for 
REFRESH-INTERVAL;VALUE=DURATION:PT1H
X-Robots-Tag:noindex
X-PUBLISHED-TTL:PT1H
BEGIN:VTIMEZONE
TZID:America/Chicago
BEGIN:DAYLIGHT
TZOFFSETFROM:-0600
TZOFFSETTO:-0500
TZNAME:CDT
DTSTART:20230312T080000
END:DAYLIGHT
BEGIN:STANDARD
TZOFFSETFROM:-0500
TZOFFSETTO:-0600
TZNAME:CST
DTSTART:20231105T070000
END:STANDARD
END:VTIMEZONE
BEGIN:VEVENT
DTSTART;TZID=America/Chicago:20230901T180000
DTEND;TZID=America/Chicago:20230901T190000
DTSTAMP:20260423T202316
CREATED:20230817T204603Z
LAST-MODIFIED:20230904T030143Z
UID:3168-1693591200-1693594800@stmichaeleotc.org
SUMMARY:Bible study
DESCRIPTION:Come join us for our weekly Friday evening bible study with Abba Michael
URL:https://stmichaeleotc.org/event/bible-study-12/
LOCATION:Debre Meheret St Michael EOTC\, 1106 N. Jupiter Rd\, Garland\, TX\, 75042
CATEGORIES:Church Events
ATTACH;FMTTYPE=image/jpeg:https://stmichaeleotc.org/wp-content/uploads/2022/04/DSC7135-scaled.jpg
ORGANIZER;CN="%E1%88%B5%E1%89%A5%E1%8A%A8%E1%89%B5%20%E1%8A%AD%E1%8D%8D%E1%88%8D":MAILTO:info@stmichaeleotc.org
END:VEVENT
BEGIN:VEVENT
DTSTART;TZID=America/Chicago:20230909T163000
DTEND;TZID=America/Chicago:20230909T200000
DTSTAMP:20260423T202316
CREATED:20230904T025307Z
LAST-MODIFIED:20230904T025307Z
UID:3175-1694277000-1694289600@stmichaeleotc.org
SUMMARY:New Year's Eve Special Guba'e
DESCRIPTION:የ 2016 አዲስ አመት ልዩ መንፈሳዊ መርሐ ግብርና የእራት ግብዣ \nCome join us for a special New Year’s Eve Guba’e presided by our Archbishop Abune Sawiros\, and featuring Megabi Haddis Eshetu Alemayehu and Liqe Tebebt Esayas Asres
URL:https://stmichaeleotc.org/event/new-years-eve-special-gubae/
LOCATION:Debre Meheret St Michael EOTC\, 1106 N. Jupiter Rd\, Garland\, TX\, 75042
CATEGORIES:Church Events
ATTACH;FMTTYPE=image/jpeg:https://stmichaeleotc.org/wp-content/uploads/2023/09/Sep9-flyer.jpg
ORGANIZER;CN="%E1%88%B5%E1%89%A5%E1%8A%A8%E1%89%B5%20%E1%8A%AD%E1%8D%8D%E1%88%8D":MAILTO:info@stmichaeleotc.org
END:VEVENT
BEGIN:VEVENT
DTSTART;TZID=America/Chicago:20230910T030000
DTEND;TZID=America/Chicago:20230910T110000
DTSTAMP:20260423T202316
CREATED:20230904T031025Z
LAST-MODIFIED:20230904T031103Z
UID:3180-1694314800-1694343600@stmichaeleotc.org
SUMMARY:Divine Liturgy and 2016 Ethiopian New Year Celebration
DESCRIPTION:We will be celebrating the 2016 Ethiopian New Year with the following services: \n\n3:00am ሥርዓተ ማኅሌት ፣\n5:30am-6:00am ጸሎተ ኪዳን ፣\n6:00am-9:30am ጸሎተ ቅዳሴ ፣\n9:30am-11:00am መዝሙር ፣ ትምህርተ ወንጌል ፣\n\n 
URL:https://stmichaeleotc.org/event/divine-liturgy-and-ethiopian-new-year-2016-celebration/
LOCATION:Debre Meheret St Michael EOTC\, 1106 N. Jupiter Rd\, Garland\, TX\, 75042
CATEGORIES:Church Events
ATTACH;FMTTYPE=image/jpeg:https://stmichaeleotc.org/wp-content/uploads/2023/09/Sep9-flyer.jpg
ORGANIZER;CN="%E1%88%B5%E1%89%A5%E1%8A%A8%E1%89%B5%20%E1%8A%AD%E1%8D%8D%E1%88%8D":MAILTO:info@stmichaeleotc.org
END:VEVENT
BEGIN:VEVENT
DTSTART;TZID=America/Chicago:20230916T150000
DTEND;TZID=America/Chicago:20230916T180000
DTSTAMP:20260423T202316
CREATED:20230915T041423Z
LAST-MODIFIED:20230915T041544Z
UID:3185-1694876400-1694887200@stmichaeleotc.org
SUMMARY:Annual General Assembly of Debre Meheret Members
DESCRIPTION:Come join us for for Debre Meheret St Michael’s Annual General Assembly on Saturday September 16th at 3:00pm.
URL:https://stmichaeleotc.org/event/annual-general-assembly/
LOCATION:Debre Meheret St Michael EOTC\, 1106 N. Jupiter Rd\, Garland\, TX\, 75042
CATEGORIES:Church Events
ATTACH;FMTTYPE=image/jpeg:https://stmichaeleotc.org/wp-content/uploads/2023/09/Resized_20230903_111419.jpg
ORGANIZER;CN="%E1%88%B5%E1%89%A5%E1%8A%A8%E1%89%B5%20%E1%8A%AD%E1%8D%8D%E1%88%8D":MAILTO:info@stmichaeleotc.org
END:VEVENT
BEGIN:VEVENT
DTSTART;TZID=America/Chicago:20230930T150000
DTEND;TZID=America/Chicago:20230930T180000
DTSTAMP:20260423T202316
CREATED:20230917T204953Z
LAST-MODIFIED:20230918T172740Z
UID:3189-1696086000-1696096800@stmichaeleotc.org
SUMMARY:2nd Annual General Assembly of Debre Meheret Members
DESCRIPTION:Come join us for for Debre Meheret St Michael’s 2nd Annual General Assembly on Saturday September 30th at 3:00pm.
URL:https://stmichaeleotc.org/event/2nd-annual-general-assembly-of-debre-meheret-members/
LOCATION:Debre Meheret St Michael EOTC\, 1106 N. Jupiter Rd\, Garland\, TX\, 75042
CATEGORIES:Church Events
ATTACH;FMTTYPE=image/png:https://stmichaeleotc.org/wp-content/uploads/2023/09/2nd-Assembly.png
ORGANIZER;CN="%E1%88%B5%E1%89%A5%E1%8A%A8%E1%89%B5%20%E1%8A%AD%E1%8D%8D%E1%88%8D":MAILTO:info@stmichaeleotc.org
END:VEVENT
END:VCALENDAR