BEGIN:VCALENDAR
VERSION:2.0
PRODID:-// - ECPv5.14.2.1//NONSGML v1.0//EN
CALSCALE:GREGORIAN
METHOD:PUBLISH
X-ORIGINAL-URL:https://stmichaeleotc.org
X-WR-CALDESC:Events for 
REFRESH-INTERVAL;VALUE=DURATION:PT1H
X-Robots-Tag:noindex
X-PUBLISHED-TTL:PT1H
BEGIN:VTIMEZONE
TZID:America/Chicago
BEGIN:DAYLIGHT
TZOFFSETFROM:-0600
TZOFFSETTO:-0500
TZNAME:CDT
DTSTART:20230312T080000
END:DAYLIGHT
BEGIN:STANDARD
TZOFFSETFROM:-0500
TZOFFSETTO:-0600
TZNAME:CST
DTSTART:20231105T070000
END:STANDARD
END:VTIMEZONE
BEGIN:VEVENT
DTSTART;TZID=America/Chicago:20230807T000000
DTEND;TZID=America/Chicago:20230807T190000
DTSTAMP:20260423T173102
CREATED:20220804T052524Z
LAST-MODIFIED:20230814T223121Z
UID:2812-1691366400-1691434800@stmichaeleotc.org
SUMMARY:Fast of Filseta
DESCRIPTION:Special schedule for the Fast of Filseta: \nSe’atat (Horologium) starting at 12:00am (midnight) \nMass starting at 12:00pm (noon) \nTselote Mihila (Evening Prayers) starting at 6:00pm \n—————– \nሰዓታት ከሌሊቱ 6 ሰዓት ጀምሮ (12:00am) \nቅዳሴ ከቀኑ 6 ሰዓት ጀምሮ (12:00pm) \nጸሎተ ምህላ ከምሽቱ 12 ሰዓት ጀምሮ (6:00pm) \n 
URL:https://stmichaeleotc.org/event/fast-of-filseta-13/
LOCATION:Debre Meheret St Michael EOTC\, 1106 N. Jupiter Rd\, Garland\, TX\, 75042
CATEGORIES:Church Events
ATTACH;FMTTYPE=image/png:https://stmichaeleotc.org/wp-content/uploads/2022/08/Asterio-Mariam.png
ORGANIZER;CN="%E1%88%B5%E1%89%A5%E1%8A%A8%E1%89%B5%20%E1%8A%AD%E1%8D%8D%E1%88%8D":MAILTO:info@stmichaeleotc.org
END:VEVENT
BEGIN:VEVENT
DTSTART;TZID=America/Chicago:20230808T000000
DTEND;TZID=America/Chicago:20230808T190000
DTSTAMP:20260423T173102
CREATED:20230817T202657Z
LAST-MODIFIED:20230817T202657Z
UID:3143-1691452800-1691521200@stmichaeleotc.org
SUMMARY:Fast of Filseta
DESCRIPTION:Special schedule for the Fast of Filseta: \nSe’atat (Horologium) starting at 12:00am (midnight) \nMass starting at 12:00pm (noon) \nTselote Mihila (Evening Prayers) starting at 6:00pm \n—————– \nሰዓታት ከሌሊቱ 6 ሰዓት ጀምሮ (12:00am) \nቅዳሴ ከቀኑ 6 ሰዓት ጀምሮ (12:00pm) \nጸሎተ ምህላ ከምሽቱ 12 ሰዓት ጀምሮ (6:00pm) \n 
URL:https://stmichaeleotc.org/event/fast-of-filseta-19/
LOCATION:Debre Meheret St Michael EOTC\, 1106 N. Jupiter Rd\, Garland\, TX\, 75042
CATEGORIES:Church Events
ATTACH;FMTTYPE=image/png:https://stmichaeleotc.org/wp-content/uploads/2022/08/Asterio-Mariam.png
ORGANIZER;CN="%E1%88%B5%E1%89%A5%E1%8A%A8%E1%89%B5%20%E1%8A%AD%E1%8D%8D%E1%88%8D":MAILTO:info@stmichaeleotc.org
END:VEVENT
BEGIN:VEVENT
DTSTART;TZID=America/Chicago:20230809T000000
DTEND;TZID=America/Chicago:20230809T190000
DTSTAMP:20260423T173102
CREATED:20230817T202803Z
LAST-MODIFIED:20230817T202803Z
UID:3145-1691539200-1691607600@stmichaeleotc.org
SUMMARY:Fast of Filseta
DESCRIPTION:Special schedule for the Fast of Filseta: \nSe’atat (Horologium) starting at 12:00am (midnight) \nMass starting at 12:00pm (noon) \nTselote Mihila (Evening Prayers) starting at 6:00pm \n—————– \nሰዓታት ከሌሊቱ 6 ሰዓት ጀምሮ (12:00am) \nቅዳሴ ከቀኑ 6 ሰዓት ጀምሮ (12:00pm) \nጸሎተ ምህላ ከምሽቱ 12 ሰዓት ጀምሮ (6:00pm) \n 
URL:https://stmichaeleotc.org/event/fast-of-filseta-20/
LOCATION:Debre Meheret St Michael EOTC\, 1106 N. Jupiter Rd\, Garland\, TX\, 75042
CATEGORIES:Church Events
ATTACH;FMTTYPE=image/png:https://stmichaeleotc.org/wp-content/uploads/2022/08/Asterio-Mariam.png
ORGANIZER;CN="%E1%88%B5%E1%89%A5%E1%8A%A8%E1%89%B5%20%E1%8A%AD%E1%8D%8D%E1%88%8D":MAILTO:info@stmichaeleotc.org
END:VEVENT
BEGIN:VEVENT
DTSTART;TZID=America/Chicago:20230810T000000
DTEND;TZID=America/Chicago:20230810T190000
DTSTAMP:20260423T173102
CREATED:20230817T202916Z
LAST-MODIFIED:20230817T202916Z
UID:3147-1691625600-1691694000@stmichaeleotc.org
SUMMARY:Fast of Filseta
DESCRIPTION:Special schedule for the Fast of Filseta: \nSe’atat (Horologium) starting at 12:00am (midnight) \nMass starting at 12:00pm (noon) \nTselote Mihila (Evening Prayers) starting at 6:00pm \n—————– \nሰዓታት ከሌሊቱ 6 ሰዓት ጀምሮ (12:00am) \nቅዳሴ ከቀኑ 6 ሰዓት ጀምሮ (12:00pm) \nጸሎተ ምህላ ከምሽቱ 12 ሰዓት ጀምሮ (6:00pm) \n 
URL:https://stmichaeleotc.org/event/fast-of-filseta-21/
LOCATION:Debre Meheret St Michael EOTC\, 1106 N. Jupiter Rd\, Garland\, TX\, 75042
CATEGORIES:Church Events
ATTACH;FMTTYPE=image/png:https://stmichaeleotc.org/wp-content/uploads/2022/08/Asterio-Mariam.png
ORGANIZER;CN="%E1%88%B5%E1%89%A5%E1%8A%A8%E1%89%B5%20%E1%8A%AD%E1%8D%8D%E1%88%8D":MAILTO:info@stmichaeleotc.org
END:VEVENT
BEGIN:VEVENT
DTSTART;TZID=America/Chicago:20230811T000000
DTEND;TZID=America/Chicago:20230811T190000
DTSTAMP:20260423T173102
CREATED:20230817T203016Z
LAST-MODIFIED:20230817T203016Z
UID:3149-1691712000-1691780400@stmichaeleotc.org
SUMMARY:Fast of Filseta
DESCRIPTION:Special schedule for the Fast of Filseta: \nSe’atat (Horologium) starting at 12:00am (midnight) \nMass starting at 12:00pm (noon) \nTselote Mihila (Evening Prayers) starting at 6:00pm \n—————– \nሰዓታት ከሌሊቱ 6 ሰዓት ጀምሮ (12:00am) \nቅዳሴ ከቀኑ 6 ሰዓት ጀምሮ (12:00pm) \nጸሎተ ምህላ ከምሽቱ 12 ሰዓት ጀምሮ (6:00pm) \n 
URL:https://stmichaeleotc.org/event/fast-of-filseta-22/
LOCATION:Debre Meheret St Michael EOTC\, 1106 N. Jupiter Rd\, Garland\, TX\, 75042
CATEGORIES:Church Events
ATTACH;FMTTYPE=image/png:https://stmichaeleotc.org/wp-content/uploads/2022/08/Asterio-Mariam.png
ORGANIZER;CN="%E1%88%B5%E1%89%A5%E1%8A%A8%E1%89%B5%20%E1%8A%AD%E1%8D%8D%E1%88%8D":MAILTO:info@stmichaeleotc.org
END:VEVENT
BEGIN:VEVENT
DTSTART;TZID=America/Chicago:20230812T050000
DTEND;TZID=America/Chicago:20230812T190000
DTSTAMP:20260423T173102
CREATED:20230817T202348Z
LAST-MODIFIED:20230817T202348Z
UID:3139-1691816400-1691866800@stmichaeleotc.org
SUMMARY:Fast of Filseta
DESCRIPTION:Special schedule for the Fast of Filseta: \nMorning Prayers starting at 5:00am \nMass starting at 6:00am \nTselote Mihila (Evening Prayers) starting at 6:00pm \n—————– \nኪዳን ከጠዋቱ 11 ሰዓት ጀምሮ (5:00am) \nቅዳሴ ከጠዋቱ 12 ሰዓት ጀምሮ (6:00am) \nጸሎተ ምህላ ከምሽቱ 12 ሰዓት ጀምሮ (6:00pm) \n  \n 
URL:https://stmichaeleotc.org/event/fast-of-filseta-17/
LOCATION:Debre Meheret St Michael EOTC\, 1106 N. Jupiter Rd\, Garland\, TX\, 75042
CATEGORIES:Church Events
ATTACH;FMTTYPE=image/png:https://stmichaeleotc.org/wp-content/uploads/2022/08/Asterio-Mariam.png
ORGANIZER;CN="%E1%88%B5%E1%89%A5%E1%8A%A8%E1%89%B5%20%E1%8A%AD%E1%8D%8D%E1%88%8D":MAILTO:info@stmichaeleotc.org
END:VEVENT
BEGIN:VEVENT
DTSTART;TZID=America/Chicago:20230813T000000
DTEND;TZID=America/Chicago:20230813T190000
DTSTAMP:20260423T173102
CREATED:20220804T051519Z
LAST-MODIFIED:20230814T220916Z
UID:2787-1691884800-1691953200@stmichaeleotc.org
SUMMARY:Fast of Filseta
DESCRIPTION:Special schedule for the Fast of Filseta: \nSe’atat (Horologium) starting at 12:00am (midnight) \nMass starting at 6:00am \nTselote Mihila (Evening Prayers) are skipped on Sundays. \n—————– \nሰዓታት ከሌሊቱ 6 ሰዓት ጀምሮ (12:00am) \nቅዳሴ ከጠዋቱ 6 ሰዓት ጀምሮ (6:00am) \n  \n 
URL:https://stmichaeleotc.org/event/fast-of-filseta/
LOCATION:Debre Meheret St Michael EOTC\, 1106 N. Jupiter Rd\, Garland\, TX\, 75042
CATEGORIES:Church Events
ATTACH;FMTTYPE=image/png:https://stmichaeleotc.org/wp-content/uploads/2022/08/Asterio-Mariam.png
ORGANIZER;CN="%E1%88%B5%E1%89%A5%E1%8A%A8%E1%89%B5%20%E1%8A%AD%E1%8D%8D%E1%88%8D":MAILTO:info@stmichaeleotc.org
END:VEVENT
BEGIN:VEVENT
DTSTART;TZID=America/Chicago:20230814T000000
DTEND;TZID=America/Chicago:20230814T190000
DTSTAMP:20260423T173102
CREATED:20230817T203058Z
LAST-MODIFIED:20230817T203058Z
UID:3151-1691971200-1692039600@stmichaeleotc.org
SUMMARY:Fast of Filseta
DESCRIPTION:Special schedule for the Fast of Filseta: \nSe’atat (Horologium) starting at 12:00am (midnight) \nMass starting at 12:00pm (noon) \nTselote Mihila (Evening Prayers) starting at 6:00pm \n—————– \nሰዓታት ከሌሊቱ 6 ሰዓት ጀምሮ (12:00am) \nቅዳሴ ከቀኑ 6 ሰዓት ጀምሮ (12:00pm) \nጸሎተ ምህላ ከምሽቱ 12 ሰዓት ጀምሮ (6:00pm) \n 
URL:https://stmichaeleotc.org/event/fast-of-filseta-23/
LOCATION:Debre Meheret St Michael EOTC\, 1106 N. Jupiter Rd\, Garland\, TX\, 75042
CATEGORIES:Church Events
ATTACH;FMTTYPE=image/png:https://stmichaeleotc.org/wp-content/uploads/2022/08/Asterio-Mariam.png
ORGANIZER;CN="%E1%88%B5%E1%89%A5%E1%8A%A8%E1%89%B5%20%E1%8A%AD%E1%8D%8D%E1%88%8D":MAILTO:info@stmichaeleotc.org
END:VEVENT
BEGIN:VEVENT
DTSTART;TZID=America/Chicago:20230815T000000
DTEND;TZID=America/Chicago:20230815T190000
DTSTAMP:20260423T173102
CREATED:20230817T203215Z
LAST-MODIFIED:20230817T203215Z
UID:3155-1692057600-1692126000@stmichaeleotc.org
SUMMARY:Fast of Filseta
DESCRIPTION:Special schedule for the Fast of Filseta: \nSe’atat (Horologium) starting at 12:00am (midnight) \nMass starting at 12:00pm (noon) \nTselote Mihila (Evening Prayers) starting at 6:00pm \n—————– \nሰዓታት ከሌሊቱ 6 ሰዓት ጀምሮ (12:00am) \nቅዳሴ ከቀኑ 6 ሰዓት ጀምሮ (12:00pm) \nጸሎተ ምህላ ከምሽቱ 12 ሰዓት ጀምሮ (6:00pm) \n 
URL:https://stmichaeleotc.org/event/fast-of-filseta-24/
LOCATION:Debre Meheret St Michael EOTC\, 1106 N. Jupiter Rd\, Garland\, TX\, 75042
CATEGORIES:Church Events
ATTACH;FMTTYPE=image/png:https://stmichaeleotc.org/wp-content/uploads/2022/08/Asterio-Mariam.png
ORGANIZER;CN="%E1%88%B5%E1%89%A5%E1%8A%A8%E1%89%B5%20%E1%8A%AD%E1%8D%8D%E1%88%8D":MAILTO:info@stmichaeleotc.org
END:VEVENT
BEGIN:VEVENT
DTSTART;TZID=America/Chicago:20230816T000000
DTEND;TZID=America/Chicago:20230816T190000
DTSTAMP:20260423T173102
CREATED:20230817T203237Z
LAST-MODIFIED:20230817T203237Z
UID:3154-1692144000-1692212400@stmichaeleotc.org
SUMMARY:Fast of Filseta
DESCRIPTION:Special schedule for the Fast of Filseta: \nSe’atat (Horologium) starting at 12:00am (midnight) \nMass starting at 12:00pm (noon) \nTselote Mihila (Evening Prayers) starting at 6:00pm \n—————– \nሰዓታት ከሌሊቱ 6 ሰዓት ጀምሮ (12:00am) \nቅዳሴ ከቀኑ 6 ሰዓት ጀምሮ (12:00pm) \nጸሎተ ምህላ ከምሽቱ 12 ሰዓት ጀምሮ (6:00pm) \n 
URL:https://stmichaeleotc.org/event/fast-of-filseta-25/
LOCATION:Debre Meheret St Michael EOTC\, 1106 N. Jupiter Rd\, Garland\, TX\, 75042
CATEGORIES:Church Events
ATTACH;FMTTYPE=image/png:https://stmichaeleotc.org/wp-content/uploads/2022/08/Asterio-Mariam.png
ORGANIZER;CN="%E1%88%B5%E1%89%A5%E1%8A%A8%E1%89%B5%20%E1%8A%AD%E1%8D%8D%E1%88%8D":MAILTO:info@stmichaeleotc.org
END:VEVENT
BEGIN:VEVENT
DTSTART;TZID=America/Chicago:20230817T000000
DTEND;TZID=America/Chicago:20230817T190000
DTSTAMP:20260423T173102
CREATED:20230817T203257Z
LAST-MODIFIED:20230817T203257Z
UID:3153-1692230400-1692298800@stmichaeleotc.org
SUMMARY:Fast of Filseta
DESCRIPTION:Special schedule for the Fast of Filseta: \nSe’atat (Horologium) starting at 12:00am (midnight) \nMass starting at 12:00pm (noon) \nTselote Mihila (Evening Prayers) starting at 6:00pm \n—————– \nሰዓታት ከሌሊቱ 6 ሰዓት ጀምሮ (12:00am) \nቅዳሴ ከቀኑ 6 ሰዓት ጀምሮ (12:00pm) \nጸሎተ ምህላ ከምሽቱ 12 ሰዓት ጀምሮ (6:00pm) \n 
URL:https://stmichaeleotc.org/event/fast-of-filseta-26/
LOCATION:Debre Meheret St Michael EOTC\, 1106 N. Jupiter Rd\, Garland\, TX\, 75042
CATEGORIES:Church Events
ATTACH;FMTTYPE=image/png:https://stmichaeleotc.org/wp-content/uploads/2022/08/Asterio-Mariam.png
ORGANIZER;CN="%E1%88%B5%E1%89%A5%E1%8A%A8%E1%89%B5%20%E1%8A%AD%E1%8D%8D%E1%88%8D":MAILTO:info@stmichaeleotc.org
END:VEVENT
BEGIN:VEVENT
DTSTART;TZID=America/Chicago:20230818T000000
DTEND;TZID=America/Chicago:20230818T190000
DTSTAMP:20260423T173102
CREATED:20230817T203400Z
LAST-MODIFIED:20230817T203400Z
UID:3159-1692316800-1692385200@stmichaeleotc.org
SUMMARY:Fast of Filseta
DESCRIPTION:Special schedule for the Fast of Filseta: \nSe’atat (Horologium) starting at 12:00am (midnight) \nMass starting at 12:00pm (noon) \nTselote Mihila (Evening Prayers) starting at 6:00pm \n—————– \nሰዓታት ከሌሊቱ 6 ሰዓት ጀምሮ (12:00am) \nቅዳሴ ከቀኑ 6 ሰዓት ጀምሮ (12:00pm) \nጸሎተ ምህላ ከምሽቱ 12 ሰዓት ጀምሮ (6:00pm) \n 
URL:https://stmichaeleotc.org/event/fast-of-filseta-27/
LOCATION:Debre Meheret St Michael EOTC\, 1106 N. Jupiter Rd\, Garland\, TX\, 75042
CATEGORIES:Church Events
ATTACH;FMTTYPE=image/png:https://stmichaeleotc.org/wp-content/uploads/2022/08/Asterio-Mariam.png
ORGANIZER;CN="%E1%88%B5%E1%89%A5%E1%8A%A8%E1%89%B5%20%E1%8A%AD%E1%8D%8D%E1%88%8D":MAILTO:info@stmichaeleotc.org
END:VEVENT
BEGIN:VEVENT
DTSTART;TZID=America/Chicago:20230819T050000
DTEND;TZID=America/Chicago:20230819T190000
DTSTAMP:20260423T173102
CREATED:20230817T202446Z
LAST-MODIFIED:20230817T202446Z
UID:3141-1692421200-1692471600@stmichaeleotc.org
SUMMARY:Fast of Filseta
DESCRIPTION:Special schedule for the Fast of Filseta: \nMorning Prayers starting at 5:00am \nMass starting at 6:00am \nTselote Mihila (Evening Prayers) starting at 6:00pm \n—————– \nኪዳን ከጠዋቱ 11 ሰዓት ጀምሮ (5:00am) \nቅዳሴ ከጠዋቱ 12 ሰዓት ጀምሮ (6:00am) \nጸሎተ ምህላ ከምሽቱ 12 ሰዓት ጀምሮ (6:00pm) \n  \n 
URL:https://stmichaeleotc.org/event/fast-of-filseta-18/
LOCATION:Debre Meheret St Michael EOTC\, 1106 N. Jupiter Rd\, Garland\, TX\, 75042
CATEGORIES:Church Events
ATTACH;FMTTYPE=image/png:https://stmichaeleotc.org/wp-content/uploads/2022/08/Asterio-Mariam.png
ORGANIZER;CN="%E1%88%B5%E1%89%A5%E1%8A%A8%E1%89%B5%20%E1%8A%AD%E1%8D%8D%E1%88%8D":MAILTO:info@stmichaeleotc.org
END:VEVENT
BEGIN:VEVENT
DTSTART;TZID=America/Chicago:20230820T000000
DTEND;TZID=America/Chicago:20230820T190000
DTSTAMP:20260423T173102
CREATED:20230817T203503Z
LAST-MODIFIED:20230817T203606Z
UID:3161-1692489600-1692558000@stmichaeleotc.org
SUMMARY:Fast of Filseta
DESCRIPTION:Special schedule for the Fast of Filseta: \nSe’atat (Horologium) starting at 12:00am (midnight) \nMass starting at 6:00am \nTselote Mihila (Evening Prayers) starting at 6:00pm \n—————– \nሰዓታት ከሌሊቱ 6 ሰዓት ጀምሮ (12:00am) \nቅዳሴ ከጠዋቱ 12 ሰዓት ጀምሮ (6:00am) \nጸሎተ ምህላ ከምሽቱ 12 ሰዓት ጀምሮ (6:00pm)
URL:https://stmichaeleotc.org/event/fast-of-filseta-28/
LOCATION:Debre Meheret St Michael EOTC\, 1106 N. Jupiter Rd\, Garland\, TX\, 75042
CATEGORIES:Church Events
ATTACH;FMTTYPE=image/png:https://stmichaeleotc.org/wp-content/uploads/2022/08/Asterio-Mariam.png
ORGANIZER;CN="%E1%88%B5%E1%89%A5%E1%8A%A8%E1%89%B5%20%E1%8A%AD%E1%8D%8D%E1%88%8D":MAILTO:info@stmichaeleotc.org
END:VEVENT
BEGIN:VEVENT
DTSTART;TZID=America/Chicago:20230822T120000
DTEND;TZID=America/Chicago:20230822T190000
DTSTAMP:20260423T173102
CREATED:20220804T052819Z
LAST-MODIFIED:20230814T221134Z
UID:2818-1692705600-1692730800@stmichaeleotc.org
SUMMARY:Fast of Filseta (Assumption)
DESCRIPTION:Special schedule for the Fast of Filseta: \nMass starting at 12:00pm (noon) \nTselote Mihila (Evening Prayers) starting at 6:00pm \n—————– \nቅዳሴ ከቀኑ 6 ሰዓት ጀምሮ (12:00pm) \nጸሎተ ምህላ ከምሽቱ 12 ሰዓት ጀምሮ (6:00pm) \n  \n 
URL:https://stmichaeleotc.org/event/fast-of-filseta-16/
LOCATION:Debre Meheret St Michael EOTC\, 1106 N. Jupiter Rd\, Garland\, TX\, 75042
CATEGORIES:Church Events
ATTACH;FMTTYPE=image/png:https://stmichaeleotc.org/wp-content/uploads/2022/08/Ye_Emebete_Erget.png
ORGANIZER;CN="%E1%88%B5%E1%89%A5%E1%8A%A8%E1%89%B5%20%E1%8A%AD%E1%8D%8D%E1%88%8D":MAILTO:info@stmichaeleotc.org
END:VEVENT
BEGIN:VEVENT
DTSTART;TZID=America/Chicago:20230825T190000
DTEND;TZID=America/Chicago:20230825T200000
DTSTAMP:20260423T173102
CREATED:20221204T043955Z
LAST-MODIFIED:20230814T220544Z
UID:2991-1692990000-1692993600@stmichaeleotc.org
SUMMARY:Bible study
DESCRIPTION:Come join us for our weekly Friday evening bible study with Abba Michael
URL:https://stmichaeleotc.org/event/bible-study-7/
LOCATION:Debre Meheret St Michael EOTC\, 1106 N. Jupiter Rd\, Garland\, TX\, 75042
CATEGORIES:Church Events
ATTACH;FMTTYPE=image/jpeg:https://stmichaeleotc.org/wp-content/uploads/2022/04/DSC7135-scaled.jpg
ORGANIZER;CN="%E1%88%B5%E1%89%A5%E1%8A%A8%E1%89%B5%20%E1%8A%AD%E1%8D%8D%E1%88%8D":MAILTO:info@stmichaeleotc.org
END:VEVENT
END:VCALENDAR