BEGIN:VCALENDAR
VERSION:2.0
PRODID:-// - ECPv5.14.2.1//NONSGML v1.0//EN
CALSCALE:GREGORIAN
METHOD:PUBLISH
X-ORIGINAL-URL:https://stmichaeleotc.org
X-WR-CALDESC:Events for 
REFRESH-INTERVAL;VALUE=DURATION:PT1H
X-Robots-Tag:noindex
X-PUBLISHED-TTL:PT1H
BEGIN:VTIMEZONE
TZID:America/Chicago
BEGIN:DAYLIGHT
TZOFFSETFROM:-0600
TZOFFSETTO:-0500
TZNAME:CDT
DTSTART:20230312T080000
END:DAYLIGHT
BEGIN:STANDARD
TZOFFSETFROM:-0500
TZOFFSETTO:-0600
TZNAME:CST
DTSTART:20231105T070000
END:STANDARD
END:VTIMEZONE
BEGIN:VEVENT
DTSTART;TZID=America/Chicago:20230607T183000
DTEND;TZID=America/Chicago:20230607T190000
DTSTAMP:20260423T144816
CREATED:20220611T043001Z
LAST-MODIFIED:20230606T162801Z
UID:2725-1686162600-1686164400@stmichaeleotc.org
SUMMARY:English Bible Study
DESCRIPTION:Please join us live for our weekly Wednesday evening Bible Study in English with Kesis Dr. Andualem
URL:https://stmichaeleotc.org/event/english-bible-study/
LOCATION:St Yared Spiritual Academy\, 1106 N. Jupiter Rd\, Garland\, TX\, 75042\, United States
CATEGORIES:Church Events
ATTACH;FMTTYPE=image/jpeg:https://stmichaeleotc.org/wp-content/uploads/2015/08/kesis-andualem.jpg
ORGANIZER;CN="%E1%88%B5%E1%89%A5%E1%8A%A8%E1%89%B5%20%E1%8A%AD%E1%8D%8D%E1%88%8D":MAILTO:info@stmichaeleotc.org
END:VEVENT
BEGIN:VEVENT
DTSTART;TZID=America/Chicago:20230616T160000
DTEND;TZID=America/Chicago:20230616T200000
DTSTAMP:20260423T144816
CREATED:20230616T181640Z
LAST-MODIFIED:20230616T182354Z
UID:3111-1686931200-1686945600@stmichaeleotc.org
SUMMARY:Wazema (ዋዜማ) and Special Gubae
DESCRIPTION:Please come join us for the start of our Annual Feast of St. Michael the Archangel – \nWazema Service featuring Yaredean Hymnody \nMezmurs (Hymns) by invited guest Zemarian \nSermon by invited guest Melake Tsehai Kesis Fire Sebhat Moochae \nClosing prayers by Archbishop Sawiros \n 
URL:https://stmichaeleotc.org/event/wazema-%e1%8b%8b%e1%8b%9c%e1%88%9b-and-special-gubae/
LOCATION:Debre Meheret St Michael EOTC\, 1106 N. Jupiter Rd\, Garland\, TX\, 75042
CATEGORIES:Church Events
ATTACH;FMTTYPE=image/jpeg:https://stmichaeleotc.org/wp-content/uploads/2023/06/Sene-Michael-2023.jpg
ORGANIZER;CN="%E1%88%B5%E1%89%A5%E1%8A%A8%E1%89%B5%20%E1%8A%AD%E1%8D%8D%E1%88%8D":MAILTO:info@stmichaeleotc.org
END:VEVENT
BEGIN:VEVENT
DTSTART;TZID=America/Chicago:20230617T010000
DTEND;TZID=America/Chicago:20230617T113000
DTSTAMP:20260423T144816
CREATED:20230606T163847Z
LAST-MODIFIED:20230616T182304Z
UID:3101-1686963600-1687001400@stmichaeleotc.org
SUMMARY:Divine Liturgy and Tabot Celebration (የሰኔ ሚካኤል በዓለ ንግሥ)
DESCRIPTION:Celebration of the Annual Feast of St Michael the Archangel \n1:00am ሥርዓተ ማኅሌት ፣ \n5:30am-6:00am ጸሎተ ኪዳን ፣ \n6:00am-9:30am ጸሎተ ቅዳሴ ፣ \n9:30am-11:00am መዝሙር ፣ ትምህርተ ወንጌል ፣ \n11:00am  የታቦት ንግሥ ።
URL:https://stmichaeleotc.org/event/divine-liturgy-and-tabot-celebration-%e1%8b%a8%e1%88%b0%e1%8a%94-%e1%88%9a%e1%8a%ab%e1%8a%a4%e1%88%8d-%e1%89%a0%e1%8b%93%e1%88%88-%e1%8a%95%e1%8c%8d%e1%88%a5/
LOCATION:Debre Meheret St Michael EOTC\, 1106 N. Jupiter Rd\, Garland\, TX\, 75042
CATEGORIES:Church Events
ATTACH;FMTTYPE=image/jpeg:https://stmichaeleotc.org/wp-content/uploads/2023/06/Sene-Michael-2023.jpg
ORGANIZER;CN="%E1%88%B5%E1%89%A5%E1%8A%A8%E1%89%B5%20%E1%8A%AD%E1%8D%8D%E1%88%8D":MAILTO:info@stmichaeleotc.org
END:VEVENT
BEGIN:VEVENT
DTSTART;TZID=America/Chicago:20230619T043000
DTEND;TZID=America/Chicago:20230619T200000
DTSTAMP:20260423T144816
CREATED:20230606T164719Z
LAST-MODIFIED:20230616T182545Z
UID:3105-1687149000-1687204800@stmichaeleotc.org
SUMMARY:Divine Liturgy and Annual Feast of St. Michael the Archangel
DESCRIPTION:We will be celebrating St Michael’s day with the following services: \n\nMorning Prayers (4:30am-6:30am)\nDivine Liturgy (12:00pm-3:00pm)\nBible study\, Mezmur and Candlelight program (6:00pm-8:00pm)
URL:https://stmichaeleotc.org/event/divine-liturgy-and-annual-feast-of-st-michael-the-archangel/
LOCATION:Debre Meheret St Michael EOTC\, 1106 N. Jupiter Rd\, Garland\, TX\, 75042
CATEGORIES:Church Events
ATTACH;FMTTYPE=image/jpeg:https://stmichaeleotc.org/wp-content/uploads/2022/10/StMichael.jpg
ORGANIZER;CN="%E1%88%B5%E1%89%A5%E1%8A%A8%E1%89%B5%20%E1%8A%AD%E1%8D%8D%E1%88%8D":MAILTO:info@stmichaeleotc.org
END:VEVENT
END:VCALENDAR