BEGIN:VCALENDAR
VERSION:2.0
PRODID:-// - ECPv5.14.2.1//NONSGML v1.0//EN
CALSCALE:GREGORIAN
METHOD:PUBLISH
X-ORIGINAL-URL:https://stmichaeleotc.org
X-WR-CALDESC:Events for 
REFRESH-INTERVAL;VALUE=DURATION:PT1H
X-Robots-Tag:noindex
X-PUBLISHED-TTL:PT1H
BEGIN:VTIMEZONE
TZID:America/Chicago
BEGIN:DAYLIGHT
TZOFFSETFROM:-0600
TZOFFSETTO:-0500
TZNAME:CDT
DTSTART:20230312T080000
END:DAYLIGHT
BEGIN:STANDARD
TZOFFSETFROM:-0500
TZOFFSETTO:-0600
TZNAME:CST
DTSTART:20231105T070000
END:STANDARD
END:VTIMEZONE
BEGIN:VEVENT
DTSTART;TZID=America/Chicago:20230409T010000
DTEND;TZID=America/Chicago:20230409T110000
DTSTAMP:20260423T113914
CREATED:20221204T042153Z
LAST-MODIFIED:20230407T223244Z
UID:2984-1681002000-1681038000@stmichaeleotc.org
SUMMARY:Divine Liturgy and Annual Feast of Hosanna
DESCRIPTION:Divine Liturgy and Celebration of the Annual Feast of Hosanna \n1:00am ሥርዓተ ማኅሌት ፣ \n5:30am-6:00am ጸሎተ ኪዳን ፣ \n6:00am-9:30am ጸሎተ ቅዳሴ ፣ \n9:30am-11:00am መዝሙር ፣ ትምህርተ ወንጌል ፣ \n11:00am  የዘንባባ ስነ ስርዓት ።
URL:https://stmichaeleotc.org/event/divine-liturgy-3/
LOCATION:Debre Meheret St Michael EOTC\, 1106 N. Jupiter Rd\, Garland\, TX\, 75042
CATEGORIES:Church Events
ATTACH;FMTTYPE=image/jpeg:https://stmichaeleotc.org/wp-content/uploads/2023/04/IMG_9216.jpg
ORGANIZER;CN="%E1%88%B5%E1%89%A5%E1%8A%A8%E1%89%B5%20%E1%8A%AD%E1%8D%8D%E1%88%8D":MAILTO:info@stmichaeleotc.org
END:VEVENT
BEGIN:VEVENT
DTSTART;TZID=America/Chicago:20230415T190000
DTEND;TZID=America/Chicago:20230415T233000
DTSTAMP:20260423T113914
CREATED:20230425T034948Z
LAST-MODIFIED:20230425T035039Z
UID:3062-1681585200-1681601400@stmichaeleotc.org
SUMMARY:Annual Feast of Easter
DESCRIPTION:Divine Liturgy and Celebration of the Annual Feast of Easter \n7:00pm – 12:00am ሥርዓተ ማኅሌት ፣ መዝሙር ፣ ጸሎተ ኪዳን \n12:00am-3:00am ጸሎተ ቅዳሴ ፣
URL:https://stmichaeleotc.org/event/divine-liturgy-and-annual-feast-of-easter-2/
LOCATION:Debre Meheret St Michael EOTC\, 1106 N. Jupiter Rd\, Garland\, TX\, 75042
CATEGORIES:Church Events
ATTACH;FMTTYPE=image/png:https://stmichaeleotc.org/wp-content/uploads/2023/04/resurrection-1.png
ORGANIZER;CN="%E1%88%B5%E1%89%A5%E1%8A%A8%E1%89%B5%20%E1%8A%AD%E1%8D%8D%E1%88%8D":MAILTO:info@stmichaeleotc.org
END:VEVENT
BEGIN:VEVENT
DTSTART;TZID=America/Chicago:20230416T000000
DTEND;TZID=America/Chicago:20230416T033000
DTSTAMP:20260423T113914
CREATED:20230425T034847Z
LAST-MODIFIED:20230425T034847Z
UID:3060-1681603200-1681615800@stmichaeleotc.org
SUMMARY:Divine Liturgy and Annual Feast of Easter
DESCRIPTION:Divine Liturgy and Celebration of the Annual Feast of Easter (continued) \n7:00pm – 12:00am ሥርዓተ ማኅሌት ፣ መዝሙር ፣ ጸሎተ ኪዳን \n12:00am-3:00am ጸሎተ ቅዳሴ ፣
URL:https://stmichaeleotc.org/event/divine-liturgy-and-annual-feast-of-easter/
LOCATION:Debre Meheret St Michael EOTC\, 1106 N. Jupiter Rd\, Garland\, TX\, 75042
CATEGORIES:Church Events
ATTACH;FMTTYPE=image/png:https://stmichaeleotc.org/wp-content/uploads/2023/04/resurrection-1.png
ORGANIZER;CN="%E1%88%B5%E1%89%A5%E1%8A%A8%E1%89%B5%20%E1%8A%AD%E1%8D%8D%E1%88%8D":MAILTO:info@stmichaeleotc.org
END:VEVENT
BEGIN:VEVENT
DTSTART;TZID=America/Chicago:20230423T010000
DTEND;TZID=America/Chicago:20230423T110000
DTSTAMP:20260423T113914
CREATED:20230425T040245Z
LAST-MODIFIED:20230425T040245Z
UID:3065-1682211600-1682247600@stmichaeleotc.org
SUMMARY:Divine Liturgy and Annual Feast of Dagmawi Tensae
DESCRIPTION:Divine Liturgy and Celebration of the Annual Feast of  Dagmawi Tensae \n1:00am ሥርዓተ ማኅሌት ፣ \n5:30am-6:00am ጸሎተ ኪዳን ፣ \n6:00am-9:30am ጸሎተ ቅዳሴ ፣ \n9:30am-11:00am መዝሙር ፣ ትምህርተ ወንጌል ፣
URL:https://stmichaeleotc.org/event/divine-liturgy-and-annual-feast-of-dagmawi-tensae/
LOCATION:Debre Meheret St Michael EOTC\, 1106 N. Jupiter Rd\, Garland\, TX\, 75042
CATEGORIES:Church Events
ATTACH;FMTTYPE=image/png:https://stmichaeleotc.org/wp-content/uploads/2023/04/resurrection-1.png
ORGANIZER;CN="%E1%88%B5%E1%89%A5%E1%8A%A8%E1%89%B5%20%E1%8A%AD%E1%8D%8D%E1%88%8D":MAILTO:info@stmichaeleotc.org
END:VEVENT
BEGIN:VEVENT
DTSTART;TZID=America/Chicago:20230427T043000
DTEND;TZID=America/Chicago:20230427T090000
DTSTAMP:20260423T113914
CREATED:20221006T000009Z
LAST-MODIFIED:20230407T221529Z
UID:2871-1682569800-1682586000@stmichaeleotc.org
SUMMARY:Monthly Feast of St. Gabriel the Archangel
DESCRIPTION:We will be celebrating St. Gabriel’s day with the following services: \n\nMorning Prayers (4:30am-6:30am)\nDivine Liturgy (6:30pm-9:00am)\n\n 
URL:https://stmichaeleotc.org/event/st-gabriels-day-celebration/
LOCATION:Debre Meheret St Michael EOTC\, 1106 N. Jupiter Rd\, Garland\, TX\, 75042
CATEGORIES:Church Events
ATTACH;FMTTYPE=image/jpeg:https://stmichaeleotc.org/wp-content/uploads/2022/10/StGabriel.jpg
ORGANIZER;CN="%E1%88%B5%E1%89%A5%E1%8A%A8%E1%89%B5%20%E1%8A%AD%E1%8D%8D%E1%88%8D":MAILTO:info@stmichaeleotc.org
END:VEVENT
BEGIN:VEVENT
DTSTART;TZID=America/Chicago:20230429T043000
DTEND;TZID=America/Chicago:20230429T090000
DTSTAMP:20260423T113914
CREATED:20230207T191423Z
LAST-MODIFIED:20230425T040401Z
UID:3037-1682742600-1682758800@stmichaeleotc.org
SUMMARY:Monthly Feast of St. Mary
DESCRIPTION:We will be celebrating St Mary’s day with the following services: \n\nMorning Prayers (4:30am-6:30am)\nDivine Liturgy (6:30am-9:00am)\n\n 
URL:https://stmichaeleotc.org/event/monthly-feast-of-st-mary-2/
LOCATION:Debre Meheret St Michael EOTC\, 1106 N. Jupiter Rd\, Garland\, TX\, 75042
CATEGORIES:Church Events
ATTACH;FMTTYPE=image/jpeg:https://stmichaeleotc.org/wp-content/uploads/2022/07/Emebete-2.jpg
ORGANIZER;CN="%E1%88%B5%E1%89%A5%E1%8A%A8%E1%89%B5%20%E1%8A%AD%E1%8D%8D%E1%88%8D":MAILTO:info@stmichaeleotc.org
END:VEVENT
END:VCALENDAR