BEGIN:VCALENDAR
VERSION:2.0
PRODID:-// - ECPv5.14.2.1//NONSGML v1.0//EN
CALSCALE:GREGORIAN
METHOD:PUBLISH
X-ORIGINAL-URL:https://stmichaeleotc.org
X-WR-CALDESC:Events for 
REFRESH-INTERVAL;VALUE=DURATION:PT1H
X-Robots-Tag:noindex
X-PUBLISHED-TTL:PT1H
BEGIN:VTIMEZONE
TZID:America/Chicago
BEGIN:DAYLIGHT
TZOFFSETFROM:-0600
TZOFFSETTO:-0500
TZNAME:CDT
DTSTART:20230312T080000
END:DAYLIGHT
BEGIN:STANDARD
TZOFFSETFROM:-0500
TZOFFSETTO:-0600
TZNAME:CST
DTSTART:20231105T070000
END:STANDARD
END:VTIMEZONE
BEGIN:VEVENT
DTSTART;TZID=America/Chicago:20230206T180000
DTEND;TZID=America/Chicago:20230206T193000
DTSTAMP:20260423T051425
CREATED:20230207T190759Z
LAST-MODIFIED:20230207T190759Z
UID:3029-1675706400-1675711800@stmichaeleotc.org
SUMMARY:Fast of Neneveh (ጾመ ነነዌ)
DESCRIPTION:Come join us for a special Mehela session to pray for Ethiopia and our Ethiopian Orthodox Tewahedo Church during the Fast of Neneveh
URL:https://stmichaeleotc.org/event/fast-of-neneveh-%e1%8c%be%e1%88%98-%e1%8a%90%e1%8a%90%e1%8b%8c/
LOCATION:Debre Meheret St Michael EOTC\, 1106 N. Jupiter Rd\, Garland\, TX\, 75042
CATEGORIES:Church Events
ORGANIZER;CN="%E1%88%B5%E1%89%A5%E1%8A%A8%E1%89%B5%20%E1%8A%AD%E1%8D%8D%E1%88%8D":MAILTO:info@stmichaeleotc.org
END:VEVENT
BEGIN:VEVENT
DTSTART;TZID=America/Chicago:20230207T180000
DTEND;TZID=America/Chicago:20230207T193000
DTSTAMP:20260423T051425
CREATED:20230207T190833Z
LAST-MODIFIED:20230207T190833Z
UID:3031-1675792800-1675798200@stmichaeleotc.org
SUMMARY:Fast of Neneveh (ጾመ ነነዌ)
DESCRIPTION:Come join us for a special Mehela session to pray for Ethiopia and our Ethiopian Orthodox Tewahedo Church during the Fast of Neneveh
URL:https://stmichaeleotc.org/event/fast-of-neneveh-%e1%8c%be%e1%88%98-%e1%8a%90%e1%8a%90%e1%8b%8c-2/
LOCATION:Debre Meheret St Michael EOTC\, 1106 N. Jupiter Rd\, Garland\, TX\, 75042
CATEGORIES:Church Events
ORGANIZER;CN="%E1%88%B5%E1%89%A5%E1%8A%A8%E1%89%B5%20%E1%8A%AD%E1%8D%8D%E1%88%8D":MAILTO:info@stmichaeleotc.org
END:VEVENT
BEGIN:VEVENT
DTSTART;TZID=America/Chicago:20230208T180000
DTEND;TZID=America/Chicago:20230208T193000
DTSTAMP:20260423T051425
CREATED:20230207T190915Z
LAST-MODIFIED:20230207T190915Z
UID:3033-1675879200-1675884600@stmichaeleotc.org
SUMMARY:Fast of Neneveh (ጾመ ነነዌ)
DESCRIPTION:Come join us for a special Mehela session to pray for Ethiopia and our Ethiopian Orthodox Tewahedo Church during the Fast of Neneveh
URL:https://stmichaeleotc.org/event/fast-of-neneveh-%e1%8c%be%e1%88%98-%e1%8a%90%e1%8a%90%e1%8b%8c-3/
LOCATION:Debre Meheret St Michael EOTC\, 1106 N. Jupiter Rd\, Garland\, TX\, 75042
CATEGORIES:Church Events
ORGANIZER;CN="%E1%88%B5%E1%89%A5%E1%8A%A8%E1%89%B5%20%E1%8A%AD%E1%8D%8D%E1%88%8D":MAILTO:info@stmichaeleotc.org
END:VEVENT
BEGIN:VEVENT
DTSTART;TZID=America/Chicago:20230228T043000
DTEND;TZID=America/Chicago:20230228T200000
DTSTAMP:20260423T051425
CREATED:20230207T191339Z
LAST-MODIFIED:20230207T191339Z
UID:3035-1677558600-1677614400@stmichaeleotc.org
SUMMARY:Monthly Feast of St. Mary
DESCRIPTION:We will be celebrating St Mary’s day with the following services: \n\nMorning Prayers (4:30am-6:30am)\nDivine Liturgy (12:00pm-3:00pm)\nBible study\, Mezmur and Candlelight program (6:30pm-8:00pm)\n\n 
URL:https://stmichaeleotc.org/event/monthly-feast-of-st-mary/
LOCATION:Debre Meheret St Michael EOTC\, 1106 N. Jupiter Rd\, Garland\, TX\, 75042
CATEGORIES:Church Events
ATTACH;FMTTYPE=image/jpeg:https://stmichaeleotc.org/wp-content/uploads/2022/07/Emebete-2.jpg
ORGANIZER;CN="%E1%88%B5%E1%89%A5%E1%8A%A8%E1%89%B5%20%E1%8A%AD%E1%8D%8D%E1%88%8D":MAILTO:info@stmichaeleotc.org
END:VEVENT
END:VCALENDAR