BEGIN:VCALENDAR
VERSION:2.0
PRODID:-// - ECPv5.14.2.1//NONSGML v1.0//EN
CALSCALE:GREGORIAN
METHOD:PUBLISH
X-ORIGINAL-URL:https://stmichaeleotc.org
X-WR-CALDESC:Events for 
REFRESH-INTERVAL;VALUE=DURATION:PT1H
X-Robots-Tag:noindex
X-PUBLISHED-TTL:PT1H
BEGIN:VTIMEZONE
TZID:America/Chicago
BEGIN:DAYLIGHT
TZOFFSETFROM:-0600
TZOFFSETTO:-0500
TZNAME:CDT
DTSTART:20250309T080000
END:DAYLIGHT
BEGIN:STANDARD
TZOFFSETFROM:-0500
TZOFFSETTO:-0600
TZNAME:CST
DTSTART:20251102T070000
END:STANDARD
END:VTIMEZONE
BEGIN:VEVENT
DTSTART;TZID=America/Chicago:20250416T050000
DTEND;TZID=America/Chicago:20250416T190000
DTSTAMP:20260421T203304
CREATED:20220418T190444Z
LAST-MODIFIED:20250413T215650Z
UID:2626-1744779600-1744830000@stmichaeleotc.org
SUMMARY:Tselote Himamat
DESCRIPTION:Tselote Himamat and Sigdet
URL:https://stmichaeleotc.org/event/tselote-himamat-3/
LOCATION:Debre Meheret St Michael EOTC\, 1106 N. Jupiter Rd\, Garland\, TX\, 75042
CATEGORIES:Church Events
ATTACH;FMTTYPE=image/jpeg:https://stmichaeleotc.org/wp-content/uploads/2022/03/Holy-Trinity-1.jpg
END:VEVENT
END:VCALENDAR