BEGIN:VCALENDAR
VERSION:2.0
PRODID:-// - ECPv5.14.2.1//NONSGML v1.0//EN
CALSCALE:GREGORIAN
METHOD:PUBLISH
X-ORIGINAL-URL:https://stmichaeleotc.org
X-WR-CALDESC:Events for 
REFRESH-INTERVAL;VALUE=DURATION:PT1H
X-Robots-Tag:noindex
X-PUBLISHED-TTL:PT1H
BEGIN:VTIMEZONE
TZID:America/Chicago
BEGIN:DAYLIGHT
TZOFFSETFROM:-0600
TZOFFSETTO:-0500
TZNAME:CDT
DTSTART:20250309T080000
END:DAYLIGHT
BEGIN:STANDARD
TZOFFSETFROM:-0500
TZOFFSETTO:-0600
TZNAME:CST
DTSTART:20251102T070000
END:STANDARD
END:VTIMEZONE
BEGIN:VEVENT
DTSTART;TZID=America/Chicago:20250413T010000
DTEND;TZID=America/Chicago:20250413T110000
DTSTAMP:20260423T064948
CREATED:20250413T211351Z
LAST-MODIFIED:20250413T211351Z
UID:3398-1744506000-1744542000@stmichaeleotc.org
SUMMARY:Divine Liturgy and Annual Feast of Hosanna
DESCRIPTION:Divine Liturgy and Celebration of the Annual Feast of Hosanna \n1:00am ሥርዓተ ማኅሌት ፣ \n5:30am-6:00am ጸሎተ ኪዳን ፣ \n6:00am-9:30am ጸሎተ ቅዳሴ ፣ \n9:30am-11:00am መዝሙር ፣ ትምህርተ ወንጌል ፣ \n11:00am  የዘንባባ ስነ ስርዓት ።
URL:https://stmichaeleotc.org/event/divine-liturgy-and-annual-feast-of-hosanna/
LOCATION:Debre Meheret St Michael EOTC\, 1106 N. Jupiter Rd\, Garland\, TX\, 75042
CATEGORIES:Church Events
ATTACH;FMTTYPE=image/jpeg:https://stmichaeleotc.org/wp-content/uploads/2023/04/IMG_9216.jpg
ORGANIZER;CN="%E1%88%B5%E1%89%A5%E1%8A%A8%E1%89%B5%20%E1%8A%AD%E1%8D%8D%E1%88%8D":MAILTO:info@stmichaeleotc.org
END:VEVENT
END:VCALENDAR