BEGIN:VCALENDAR
VERSION:2.0
PRODID:-// - ECPv5.14.2.1//NONSGML v1.0//EN
CALSCALE:GREGORIAN
METHOD:PUBLISH
X-ORIGINAL-URL:https://stmichaeleotc.org
X-WR-CALDESC:Events for 
REFRESH-INTERVAL;VALUE=DURATION:PT1H
X-Robots-Tag:noindex
X-PUBLISHED-TTL:PT1H
BEGIN:VTIMEZONE
TZID:America/Chicago
BEGIN:DAYLIGHT
TZOFFSETFROM:-0600
TZOFFSETTO:-0500
TZNAME:CDT
DTSTART:20240310T080000
END:DAYLIGHT
BEGIN:STANDARD
TZOFFSETFROM:-0500
TZOFFSETTO:-0600
TZNAME:CST
DTSTART:20241103T070000
END:STANDARD
END:VTIMEZONE
BEGIN:VEVENT
DTSTART;TZID=America/Chicago:20240227T043000
DTEND;TZID=America/Chicago:20240227T090000
DTSTAMP:20260422T161035
CREATED:20231201T161707Z
LAST-MODIFIED:20240205T062037Z
UID:3215-1709008200-1709024400@stmichaeleotc.org
SUMMARY:Divine Liturgy and Monthly Feast of St. Gabriel the Archangel
DESCRIPTION:We will be celebrating St. Gabriel’s day with the following services: \n\nMorning Prayers (4:30am-6:00am)\nDivine Liturgy (6:00am-9:00am)\n\n  \n 
URL:https://stmichaeleotc.org/event/divine-liturgy-and-monthly-feast-of-st-gabriel-the-archangel-2/
LOCATION:Debre Meheret St Michael EOTC\, 1106 N. Jupiter Rd\, Garland\, TX\, 75042
CATEGORIES:Church Events
ATTACH;FMTTYPE=image/jpeg:https://stmichaeleotc.org/wp-content/uploads/2022/10/StGabriel.jpg
ORGANIZER;CN="%E1%88%B5%E1%89%A5%E1%8A%A8%E1%89%B5%20%E1%8A%AD%E1%8D%8D%E1%88%8D":MAILTO:info@stmichaeleotc.org
END:VEVENT
BEGIN:VEVENT
DTSTART;TZID=America/Chicago:20240227T180000
DTEND;TZID=America/Chicago:20240227T193000
DTSTAMP:20260422T161035
CREATED:20240303T015534Z
LAST-MODIFIED:20240303T015534Z
UID:3268-1709056800-1709062200@stmichaeleotc.org
SUMMARY:Fast of Neneveh (ጾመ ነነዌ)
DESCRIPTION:Come join us for a special Mehela session to pray for Ethiopia and our Ethiopian Orthodox Tewahedo Church during the Fast of Neneveh
URL:https://stmichaeleotc.org/event/fast-of-neneveh-%e1%8c%be%e1%88%98-%e1%8a%90%e1%8a%90%e1%8b%8c-5/
LOCATION:Debre Meheret St Michael EOTC\, 1106 N. Jupiter Rd\, Garland\, TX\, 75042
CATEGORIES:Church Events
ORGANIZER;CN="%E1%88%B5%E1%89%A5%E1%8A%A8%E1%89%B5%20%E1%8A%AD%E1%8D%8D%E1%88%8D":MAILTO:info@stmichaeleotc.org
END:VEVENT
END:VCALENDAR