BEGIN:VCALENDAR
VERSION:2.0
PRODID:-// - ECPv5.14.2.1//NONSGML v1.0//EN
CALSCALE:GREGORIAN
METHOD:PUBLISH
X-ORIGINAL-URL:https://stmichaeleotc.org
X-WR-CALDESC:Events for 
REFRESH-INTERVAL;VALUE=DURATION:PT1H
X-Robots-Tag:noindex
X-PUBLISHED-TTL:PT1H
BEGIN:VTIMEZONE
TZID:America/Chicago
BEGIN:DAYLIGHT
TZOFFSETFROM:-0600
TZOFFSETTO:-0500
TZNAME:CDT
DTSTART:20240310T080000
END:DAYLIGHT
BEGIN:STANDARD
TZOFFSETFROM:-0500
TZOFFSETTO:-0600
TZNAME:CST
DTSTART:20241103T070000
END:STANDARD
END:VTIMEZONE
BEGIN:VEVENT
DTSTART;TZID=America/Chicago:20240225T010000
DTEND;TZID=America/Chicago:20240225T113000
DTSTAMP:20260421T035233
CREATED:20240219T014217Z
LAST-MODIFIED:20240219T014217Z
UID:3262-1708822800-1708860600@stmichaeleotc.org
SUMMARY:Divine Liturgy and Tabot Celebration (26ኛ የቅዳሴ ቤት በዓል)
DESCRIPTION:Celebration of 26th Annual Feast of the Anniversary of Debre Meheret St Michael Cathedral \n1:00am ሥርዓተ ማኅሌት ፣ \n5:30am-6:00am ጸሎተ ኪዳን ፣ \n6:00am-9:30am ጸሎተ ቅዳሴ ፣ \n9:30am-11:00am መዝሙር ፣ ትምህርተ ወንጌል ፣ \n11:00am  የታቦት ንግሥ ።
URL:https://stmichaeleotc.org/event/divine-liturgy-and-tabot-celebration-26%e1%8a%9b-%e1%8b%a8%e1%89%85%e1%8b%b3%e1%88%b4-%e1%89%a4%e1%89%b5-%e1%89%a0%e1%8b%93%e1%88%8d/
LOCATION:Debre Meheret St Michael EOTC\, 1106 N. Jupiter Rd\, Garland\, TX\, 75042
CATEGORIES:Church Events
ATTACH;FMTTYPE=image/jpeg:https://stmichaeleotc.org/wp-content/uploads/2024/02/IMG_3525.jpg
ORGANIZER;CN="%E1%88%B5%E1%89%A5%E1%8A%A8%E1%89%B5%20%E1%8A%AD%E1%8D%8D%E1%88%8D":MAILTO:info@stmichaeleotc.org
END:VEVENT
END:VCALENDAR